BEGIN:VCALENDAR
VERSION:2.0
PRODID:-//Meri-Lapin Matkailuoppaat ry - ECPv6.15.20//NONSGML v1.0//EN
CALSCALE:GREGORIAN
METHOD:PUBLISH
X-WR-CALNAME:Meri-Lapin Matkailuoppaat ry
X-ORIGINAL-URL:https://www.merilapinmatkailuoppaat.fi
X-WR-CALDESC:Tapahtumat Meri-Lapin Matkailuoppaat ry
REFRESH-INTERVAL;VALUE=DURATION:PT1H
X-Robots-Tag:noindex
X-PUBLISHED-TTL:PT1H
BEGIN:VTIMEZONE
TZID:Europe/Helsinki
BEGIN:DAYLIGHT
TZOFFSETFROM:+0200
TZOFFSETTO:+0300
TZNAME:EEST
DTSTART:20240331T010000
END:DAYLIGHT
BEGIN:STANDARD
TZOFFSETFROM:+0300
TZOFFSETTO:+0200
TZNAME:EET
DTSTART:20241027T010000
END:STANDARD
BEGIN:DAYLIGHT
TZOFFSETFROM:+0200
TZOFFSETTO:+0300
TZNAME:EEST
DTSTART:20250330T010000
END:DAYLIGHT
BEGIN:STANDARD
TZOFFSETFROM:+0300
TZOFFSETTO:+0200
TZNAME:EET
DTSTART:20251026T010000
END:STANDARD
BEGIN:DAYLIGHT
TZOFFSETFROM:+0200
TZOFFSETTO:+0300
TZNAME:EEST
DTSTART:20260329T010000
END:DAYLIGHT
BEGIN:STANDARD
TZOFFSETFROM:+0300
TZOFFSETTO:+0200
TZNAME:EET
DTSTART:20261025T010000
END:STANDARD
END:VTIMEZONE
BEGIN:VEVENT
DTSTART;TZID=Europe/Helsinki:20250203T080000
DTEND;TZID=Europe/Helsinki:20250701T170000
DTSTAMP:20260423T031033
CREATED:20250203T144624Z
LAST-MODIFIED:20250309T104438Z
UID:1702-1738569600-1751389200@www.merilapinmatkailuoppaat.fi
SUMMARY:Viikinkiviikonloppu 26.-27.7.2025
DESCRIPTION:Kemissä järjestetään viidennen kerran Viikinkiviikonloppu Kemin Laitakarin sahasaarella. \nOletko valmis! \nKoko perheen leikkimielinen viikinkitapahtumaan saapuu kauppiaita \,esiintyjiä\, temppuilijoita ja ties mitä jännää. \nLapsille seikkailurataa\, leikkejä ja muuta mukavaa. Viikinkiravintolasta pikkupurtavaa ja makeaa juotavaa. \nTervetuloa koko perheen ja ystävien kera! \nLisätietoja kevään ja alkukesän aikana! \nValmistaudu leikkimieliseen seikkailuun!
URL:https://www.merilapinmatkailuoppaat.fi/event/viikinkiviikonloppu-26-27-7-2025/
ATTACH;FMTTYPE=image/jpeg:https://www.merilapinmatkailuoppaat.fi/wp-content/uploads/2025/02/Mainos-2025-WhatsApp-Kuva-2025-01-13-klo-16.40.54_d25199c8.jpg
END:VEVENT
BEGIN:VEVENT
DTSTART;TZID=Europe/Helsinki:20250506T170000
DTEND;TZID=Europe/Helsinki:20250506T190000
DTSTAMP:20260423T031033
CREATED:20250419T112339Z
LAST-MODIFIED:20250419T112553Z
UID:1735-1746550800-1746558000@www.merilapinmatkailuoppaat.fi
SUMMARY:Suomen matkailuoppaan päivä 6.5.
DESCRIPTION:Meri-Lapin Matkailuoppaat ry kutsuu entiset ja nykyiset Suomen Opasliiton auktorisoituna matkailuoppaana toimivat ja toimineet yhteiseen tapaamiseen ja kahvittelutilaisuuteen Kemin kulttuurikeskukseen Suomen Matkailuoppaan päivänä tiistaina 6.5.2025 klo 17:00 -19:00.\nIlmoittautumiset viimeistään perjantaihin 2.5. mennessä\nyhdistyksen sihteeri Hilkka Kangastielle\, puh. 040 547 8686 tai\nRitva Aheinen 040 5472495 \nTervetuloa! \nMeri-Lapin Matkailuoppaat ry \nSuomen Matkailuoppaan juhlapäivänä juhlitaan \nSuomen Opasliitto ry:n – Finlands Guideförbund rf:s jäsenyhdistykset eri puolilla Suomea juhlivat Suomen Matkailuoppaan päivää 6.5. opastaen ja oppaan työtä tunnetuksi tehden. Jäsenyhdistyksiä on yhteensä 74. Suomen Matkailuoppaan päivää on vietetty vuodesta 2019 lähtien. \nMeri-Lapin Matkailuoppaat ry juhlii Suomen Matkailuoppaan päivää tiistaina 6.5. kutsumalla yhteiseen tapaamiseen ja kahvitilaisuuteen kaikki entiset ja nykyiset auktorisoidut matkailuoppaat\, jotka toimivat tai ovat toimineet Meri-Lapin kuntien alueella\, eli Simossa\, Kemissä\, Keminmaassa\, Tervolassa\, Torniossa ja Haaparannalla. Myös yhdistyksen toimihenkilöinä toimineet ovat tervetulleita. \nMeri-Lapin Matkailuoppaat ry on toiminut jo 45 vuotta. Yhdistyksen toiminta alkoi vuonna 1980 nimellä Kemin Opaskerho. Myöhemmin nimeksi muutettiin Kemin Matkailuoppaat\, ja opastusalueena oli Kemi ja Keminmaa. Kymmenen vuotta sitten nimeksi muutettiin Meri-Lapin Matkailuoppaat opastusalueen laajetessa käsittämään koko Meri-Lapin alueen. Nykyisin opastusalue yltää Pelloon saakka ja molemmin puolin Väylää. \nLisätietoja antavat puheenjohtaja Kyösti Karjalainen\, puh. 044 440 1201 ja sihteeri Hilkka Kangastie\, puh. 040 547 8686.
URL:https://www.merilapinmatkailuoppaat.fi/event/suomen-matkailuoppaan-paiva-6-5/
ATTACH;FMTTYPE=image/jpeg:https://www.merilapinmatkailuoppaat.fi/wp-content/uploads/2017/12/IMG_0582.jpg
END:VEVENT
END:VCALENDAR